BEGIN:VCALENDAR
VERSION:2.0
PRODID:-//Power House Rugby Union Melbourne - ECPv6.15.20//NONSGML v1.0//EN
CALSCALE:GREGORIAN
METHOD:PUBLISH
X-ORIGINAL-URL:https://powerhouserufc.com.au
X-WR-CALDESC:Events for Power House Rugby Union Melbourne
REFRESH-INTERVAL;VALUE=DURATION:PT1H
X-Robots-Tag:noindex
X-PUBLISHED-TTL:PT1H
BEGIN:VTIMEZONE
TZID:Australia/Melbourne
BEGIN:STANDARD
TZOFFSETFROM:+1100
TZOFFSETTO:+1000
TZNAME:AEST
DTSTART:20230401T160000
END:STANDARD
BEGIN:DAYLIGHT
TZOFFSETFROM:+1000
TZOFFSETTO:+1100
TZNAME:AEDT
DTSTART:20230930T160000
END:DAYLIGHT
BEGIN:STANDARD
TZOFFSETFROM:+1100
TZOFFSETTO:+1000
TZNAME:AEST
DTSTART:20240406T160000
END:STANDARD
BEGIN:DAYLIGHT
TZOFFSETFROM:+1000
TZOFFSETTO:+1100
TZNAME:AEDT
DTSTART:20241005T160000
END:DAYLIGHT
BEGIN:STANDARD
TZOFFSETFROM:+1100
TZOFFSETTO:+1000
TZNAME:AEST
DTSTART:20250405T160000
END:STANDARD
BEGIN:DAYLIGHT
TZOFFSETFROM:+1000
TZOFFSETTO:+1100
TZNAME:AEDT
DTSTART:20251004T160000
END:DAYLIGHT
END:VTIMEZONE
BEGIN:VEVENT
DTSTART;VALUE=DATE:20241201
DTEND;VALUE=DATE:20241202
DTSTAMP:20260420T211315
CREATED:20241007T113759Z
LAST-MODIFIED:20241007T113851Z
UID:1065-1733011200-1733097599@powerhouserufc.com.au
SUMMARY:Power House Golf Day 2024
DESCRIPTION:Join us at Albert Park Golf Course for 9 holes of 4 team ambrose. \nTee off between 9-10.15am\, please arrive at 8:30am.  \nAn after golf function for presentations will also be on at the Bells hotel from 12.30pm onwards. \n\nIncludes canapés\nBy your own drinks\n\nPayment Details for golf day \nCosts: \n\n$55 for 9 holes\, includes after match food\nCarts are $29 (please pay in advance)\nHand trolleys $7 (please pay at pro shop)\n\nPower House Rugby Union Club \nBSB – 633000 \nAC – 203573605 \nReference – Your name \n 
URL:https://powerhouserufc.com.au/event/power-house-golf-day-2024/
LOCATION:Albert Park Golf Course\, Queens Rd & Lakeside Dr\, Melbourne\, Victoria\, 3004\, Australia
CATEGORIES:2024 social calendar
ORGANIZER;CN="Bryan Furlong":MAILTO:bryan@furward.com.au
END:VEVENT
END:VCALENDAR